BEGIN:VCALENDAR
VERSION:2.0
PRODID:-//Sunderjis Global Academia - ECPv5.3.1.1//NONSGML v1.0//EN
CALSCALE:GREGORIAN
METHOD:PUBLISH
X-WR-CALNAME:Sunderjis Global Academia
X-ORIGINAL-URL:https://sunderjisga.org
X-WR-CALDESC:Events for Sunderjis Global Academia
BEGIN:VTIMEZONE
TZID:UTC
BEGIN:STANDARD
TZOFFSETFROM:+0000
TZOFFSETTO:+0000
TZNAME:UTC
DTSTART:20210101T000000
END:STANDARD
END:VTIMEZONE
BEGIN:VEVENT
DTSTART;VALUE=DATE:20210729
DTEND;VALUE=DATE:20210730
DTSTAMP:20260415T045849
CREATED:20210212T112939Z
LAST-MODIFIED:20210212T112939Z
UID:3661-1627516800-1627603199@sunderjisga.org
SUMMARY:Graduation Day
DESCRIPTION:
URL:https://sunderjisga.org/event/graduation-day/
END:VEVENT
END:VCALENDAR