BEGIN:VCALENDAR
VERSION:2.0
PRODID:-//Sunderjis Global Academia - ECPv5.3.1.1//NONSGML v1.0//EN
CALSCALE:GREGORIAN
METHOD:PUBLISH
X-WR-CALNAME:Sunderjis Global Academia
X-ORIGINAL-URL:https://sunderjisga.org
X-WR-CALDESC:Events for Sunderjis Global Academia
BEGIN:VTIMEZONE
TZID:UTC
BEGIN:STANDARD
TZOFFSETFROM:+0000
TZOFFSETTO:+0000
TZNAME:UTC
DTSTART:20200101T000000
END:STANDARD
END:VTIMEZONE
BEGIN:VEVENT
DTSTART;TZID=UTC:20200413T170000
DTEND;TZID=UTC:20200413T180000
DTSTAMP:20260425T143614
CREATED:20210212T134735Z
LAST-MODIFIED:20210212T134735Z
UID:3730-1586797200-1586800800@sunderjisga.org
SUMMARY:Relax the Stress with Dr Suneel Godbole | Part #1
DESCRIPTION:
URL:https://sunderjisga.org/event/relax-the-stress-with-dr-suneel-godbole-part-1/
LOCATION:Webinar
END:VEVENT
END:VCALENDAR