BEGIN:VCALENDAR
VERSION:2.0
PRODID:-//Sunderjis Global Academia - ECPv5.3.1.1//NONSGML v1.0//EN
CALSCALE:GREGORIAN
METHOD:PUBLISH
X-WR-CALNAME:Sunderjis Global Academia
X-ORIGINAL-URL:https://sunderjisga.org
X-WR-CALDESC:Events for Sunderjis Global Academia
BEGIN:VTIMEZONE
TZID:Asia/Kolkata
BEGIN:STANDARD
TZOFFSETFROM:+0530
TZOFFSETTO:+0530
TZNAME:IST
DTSTART:20200101T000000
END:STANDARD
TZID:UTC
BEGIN:STANDARD
TZOFFSETFROM:+0000
TZOFFSETTO:+0000
TZNAME:UTC
DTSTART:20200101T000000
END:STANDARD
END:VTIMEZONE
BEGIN:VEVENT
DTSTART;TZID=Asia/Kolkata:20200831T170000
DTEND;TZID=Asia/Kolkata:20200831T190000
DTSTAMP:20260423T131633
CREATED:20210212T113817Z
LAST-MODIFIED:20210212T114000Z
UID:3677-1598893200-1598900400@sunderjisga.org
SUMMARY:The Parenting Toolbox: Chapter 01 with Manjushree Patil
DESCRIPTION:
URL:https://sunderjisga.org/event/the-parenting-toolbox-chapter-01-with-manjushree-patil/
LOCATION:Webinar
END:VEVENT
BEGIN:VEVENT
DTSTART;TZID=UTC:20200907T150000
DTEND;TZID=UTC:20200909T180000
DTSTAMP:20260423T131633
CREATED:20210212T131223Z
LAST-MODIFIED:20210212T131256Z
UID:3682-1599490800-1599674400@sunderjisga.org
SUMMARY:Short Course | Applied Behaviour Analysis
DESCRIPTION:
URL:https://sunderjisga.org/event/short-course-applied-behaviour-analysis/
LOCATION:Webinar
END:VEVENT
BEGIN:VEVENT
DTSTART;TZID=UTC:20200925T170000
DTEND;TZID=UTC:20200925T180000
DTSTAMP:20260423T131633
CREATED:20210212T131350Z
LAST-MODIFIED:20210212T131526Z
UID:3684-1601053200-1601056800@sunderjisga.org
SUMMARY:The Parenting Toolbox: Chapter 02 with Harsha Ramaiya
DESCRIPTION:
URL:https://sunderjisga.org/event/the-parenting-toolbox-chapter-02-with-harsha-ramaiya/
LOCATION:Webinar
END:VEVENT
END:VCALENDAR