BEGIN:VCALENDAR
VERSION:2.0
PRODID:-//Sunderjis Global Academia - ECPv5.3.1.1//NONSGML v1.0//EN
CALSCALE:GREGORIAN
METHOD:PUBLISH
X-WR-CALNAME:Sunderjis Global Academia
X-ORIGINAL-URL:https://sunderjisga.org
X-WR-CALDESC:Events for Sunderjis Global Academia
BEGIN:VTIMEZONE
TZID:UTC
BEGIN:STANDARD
TZOFFSETFROM:+0000
TZOFFSETTO:+0000
TZNAME:UTC
DTSTART:20200101T000000
END:STANDARD
END:VTIMEZONE
BEGIN:VEVENT
DTSTART;TZID=UTC:20201030T100000
DTEND;TZID=UTC:20201105T160000
DTSTAMP:20260423T093532
CREATED:20210212T132101Z
LAST-MODIFIED:20210212T132228Z
UID:3692-1604052000-1604592000@sunderjisga.org
SUMMARY:Workshop | Understanding the Misunderstood
DESCRIPTION:
URL:https://sunderjisga.org/event/workshop-understanding-the-misunderstood/
LOCATION:Sunderji’s Global Academia\, Vrindavan Society\, Shankerseth Rd.\, Pune\, Maharashtra\, 411037\, India
END:VEVENT
BEGIN:VEVENT
DTSTART;TZID=UTC:20201127T170000
DTEND;TZID=UTC:20201127T180000
DTSTAMP:20260423T093532
CREATED:20210212T132359Z
LAST-MODIFIED:20210212T132359Z
UID:3700-1606496400-1606500000@sunderjisga.org
SUMMARY:The Parenting Toolbox: Chapter 03 with Sushant Kalra
DESCRIPTION:
URL:https://sunderjisga.org/event/the-parenting-toolbox-chapter-03-with-sushant-kalra/
LOCATION:Webinar
END:VEVENT
END:VCALENDAR