BEGIN:VCALENDAR
VERSION:2.0
PRODID:-//Sunderjis Global Academia - ECPv5.3.1.1//NONSGML v1.0//EN
CALSCALE:GREGORIAN
METHOD:PUBLISH
X-WR-CALNAME:Sunderjis Global Academia
X-ORIGINAL-URL:https://sunderjisga.org
X-WR-CALDESC:Events for Sunderjis Global Academia
BEGIN:VTIMEZONE
TZID:UTC
BEGIN:STANDARD
TZOFFSETFROM:+0000
TZOFFSETTO:+0000
TZNAME:UTC
DTSTART:20210101T000000
END:STANDARD
END:VTIMEZONE
BEGIN:VEVENT
DTSTART;VALUE=DATE:20211225
DTEND;VALUE=DATE:20211226
DTSTAMP:20260422T121150
CREATED:20210212T132549Z
LAST-MODIFIED:20210212T132549Z
UID:3706-1640390400-1640476799@sunderjisga.org
SUMMARY:Christmas Day
DESCRIPTION:
URL:https://sunderjisga.org/event/christmas-day/
END:VEVENT
END:VCALENDAR